BEGIN:VCALENDAR
VERSION:2.0
PRODID:-//A.L.I.G. - ECPv4.6.7//NONSGML v1.0//EN
CALSCALE:GREGORIAN
METHOD:PUBLISH
X-WR-CALNAME:A.L.I.G.
X-ORIGINAL-URL:http://www.alig.lu
X-WR-CALDESC:Events for A.L.I.G.
BEGIN:VEVENT
DTSTART;TZID=Europe/Luxembourg:20180320T173000
DTEND;TZID=Europe/Luxembourg:20180320T210000
DTSTAMP:20171220T040324
CREATED:20171205T094954Z
LAST-MODIFIED:20171205T094954Z
UID:14314-1521567000-1521579600@www.alig.lu
SUMMARY:Assemblée Générale
DESCRIPTION:
URL:http://www.alig.lu/event/assemblee-generale/
CATEGORIES:Journées d'information
ATTACH;FMTTYPE=image/jpeg:http://static.alig.lu/wp-content/uploads/2017/12/Assemblée-Générale_sta.jpg
END:VEVENT
BEGIN:VEVENT
DTSTART;TZID=Europe/Luxembourg:20180516T170000
DTEND;TZID=Europe/Luxembourg:20180516T220000
DTSTAMP:20171220T040324
CREATED:20171205T100526Z
LAST-MODIFIED:20171205T100526Z
UID:14321-1526490000-1526508000@www.alig.lu
SUMMARY:Afterwork meeting
DESCRIPTION:
URL:http://www.alig.lu/event/afterwork-meeting/
CATEGORIES:Activités divers
ATTACH;FMTTYPE=image/png:http://static.alig.lu/wp-content/uploads/2017/12/image4144-1.png
END:VEVENT
BEGIN:VEVENT
DTSTART;TZID=Europe/Luxembourg:20180602T110000
DTEND;TZID=Europe/Luxembourg:20180602T150000
DTSTAMP:20171220T040324
CREATED:20171205T101144Z
LAST-MODIFIED:20171205T101144Z
UID:14331-1527937200-1527951600@www.alig.lu
SUMMARY:Cours cuisine parents-enfants
DESCRIPTION:
URL:http://www.alig.lu/event/cours-cuisine-parents-enfants/
CATEGORIES:Cours de cuisine
ATTACH;FMTTYPE=image/jpeg:http://static.alig.lu/wp-content/uploads/2017/12/IMG_5059_sta.jpg
END:VEVENT
END:VCALENDAR