BEGIN:VCALENDAR
VERSION:2.0
PRODID:-//A.L.I.G. - ECPv6.15.20//NONSGML v1.0//EN
CALSCALE:GREGORIAN
METHOD:PUBLISH
X-WR-CALNAME:A.L.I.G.
X-ORIGINAL-URL:https://www.alig.lu
X-WR-CALDESC:Évènements pour A.L.I.G.
REFRESH-INTERVAL;VALUE=DURATION:PT1H
X-Robots-Tag:noindex
X-PUBLISHED-TTL:PT1H
BEGIN:VTIMEZONE
TZID:Europe/Luxembourg
BEGIN:DAYLIGHT
TZOFFSETFROM:+0100
TZOFFSETTO:+0200
TZNAME:CEST
DTSTART:20250330T010000
END:DAYLIGHT
BEGIN:STANDARD
TZOFFSETFROM:+0200
TZOFFSETTO:+0100
TZNAME:CET
DTSTART:20251026T010000
END:STANDARD
BEGIN:DAYLIGHT
TZOFFSETFROM:+0100
TZOFFSETTO:+0200
TZNAME:CEST
DTSTART:20260329T010000
END:DAYLIGHT
BEGIN:STANDARD
TZOFFSETFROM:+0200
TZOFFSETTO:+0100
TZNAME:CET
DTSTART:20261025T010000
END:STANDARD
BEGIN:DAYLIGHT
TZOFFSETFROM:+0100
TZOFFSETTO:+0200
TZNAME:CEST
DTSTART:20270328T010000
END:DAYLIGHT
BEGIN:STANDARD
TZOFFSETFROM:+0200
TZOFFSETTO:+0100
TZNAME:CET
DTSTART:20271031T010000
END:STANDARD
END:VTIMEZONE
BEGIN:VEVENT
DTSTART;TZID=Europe/Luxembourg:20260426T100000
DTEND;TZID=Europe/Luxembourg:20260426T140000
DTSTAMP:20260426T041227
CREATED:20260312T085024Z
LAST-MODIFIED:20260417T073136Z
UID:16887-1777197600-1777212000@www.alig.lu
SUMMARY:Sortie bowling & restaurant
DESCRIPTION:Le 26 avril 2026 aura lieu la sortie bowling\, suivie d’un déjeuner commun au restaurant. \nIl s'agit d'une activité en groupe pour jeunes et adultes – avis à tous les amateurs\, quel que soit leur âge!\nLa séance de bowling (2 heures) aura lieu à partir de 10h00 au I am Wow Life Style Center dans la City Concorde et le déjeuner commun aura lieu dans le restaurant Annapurna Mamer à partir de 12h15. \nAdresse bowling :                80\, route de Longwy \n                                                      L-8060 Bertrange \nAdresse restaurant :          61\, route d'Arlon\n                                                      L-8211 Mamer\nL'ALIG prendra en charge les frais de location du bowling ainsi qu'une boisson non alcoolisée lors du déjeuner (la location des chaussures est offerte). Les boissons consommées au bowling ainsi que les plats commandés au restaurant seront à la charge des participants. \nVeuillez vous inscrire sur notre site internet : www.alig.lu sous l'évènement: sortie bowling& restaurant en indiquant si vous participez uniquement au bowling (option 1) ou uniquement au déjeuner (option 2) ou bien au bowling et au déjeuner (option 3) et ajoutez tous les participants ou inscrivez vous via email au contact@alig.lu en indiquant quelle option vous préférez\, ainsi que le nom des participants. \nLes inscriptions se fermeront jeudi le 16 avril à 12h00 !\n\nAttention: la participation est réservée aux membres payants!! Si vous êtes membre inscrit\, veuillez d'abord payer la cotisation 2026.
URL:https://www.alig.lu/event/sortie-bowling-restaurant/
LOCATION:Life Style Center Iam Wow City Concorde\, 80\, route de Longwy\, Bertrange\, 8060
ATTACH;FMTTYPE=image/png:https://www.alig.lu/wp-content/uploads/2026/03/bowling.png
END:VEVENT
END:VCALENDAR